BEGIN:VCALENDAR
VERSION:2.0
PRODID:-// - ECPv6.15.20//NONSGML v1.0//EN
CALSCALE:GREGORIAN
METHOD:PUBLISH
X-ORIGINAL-URL:https://greatleap.eu
X-WR-CALDESC:Events for 
REFRESH-INTERVAL;VALUE=DURATION:PT1H
X-Robots-Tag:noindex
X-PUBLISHED-TTL:PT1H
BEGIN:VTIMEZONE
TZID:Europe/Paris
BEGIN:DAYLIGHT
TZOFFSETFROM:+0100
TZOFFSETTO:+0200
TZNAME:CEST
DTSTART:20240331T010000
END:DAYLIGHT
BEGIN:STANDARD
TZOFFSETFROM:+0200
TZOFFSETTO:+0100
TZNAME:CET
DTSTART:20241027T010000
END:STANDARD
BEGIN:DAYLIGHT
TZOFFSETFROM:+0100
TZOFFSETTO:+0200
TZNAME:CEST
DTSTART:20250330T010000
END:DAYLIGHT
BEGIN:STANDARD
TZOFFSETFROM:+0200
TZOFFSETTO:+0100
TZNAME:CET
DTSTART:20251026T010000
END:STANDARD
BEGIN:DAYLIGHT
TZOFFSETFROM:+0100
TZOFFSETTO:+0200
TZNAME:CEST
DTSTART:20260329T010000
END:DAYLIGHT
BEGIN:STANDARD
TZOFFSETFROM:+0200
TZOFFSETTO:+0100
TZNAME:CET
DTSTART:20261025T010000
END:STANDARD
END:VTIMEZONE
BEGIN:VEVENT
DTSTART;TZID=Europe/Paris:20250307T140000
DTEND;TZID=Europe/Paris:20250307T160000
DTSTAMP:20260422T145241
CREATED:20250226T150025Z
LAST-MODIFIED:20250310T092033Z
UID:6158-1741356000-1741363200@greatleap.eu
SUMMARY:Online lecture 1: Best practices for data management
DESCRIPTION:Lecturer: Prof. Tiziana Margaria\, University of Limerick\, Ireland \nContent of the lecture: This lecture aims to enable the students to think critically about key issues around data management\, situated in the context of the current best practices. It will also address shortcomings\, especially for what concerns manageability over a longer period of time\, in a regulatory space\, and the dilemmas of governance and sustainability. \nObjectives of the lecture: The lecture will introduce the current practice of data description\, present the key principles of FAIR and XAIR data\, illustrate a few options of data management and governance\, also in the context of the GDRP and the AI Act.\nIt will also encourage the students to reflect on their own situation in this context. \nRecommended reading: \nDigital Repository of Ireland (DRI): How to Practise Good Research Data Management https://dri.ie/how-to-rdm/\nBrian Donnellan\, Charles Sheridan & Edward Curry (2011) A capability maturity framework for sustainable information and communication technology’ \, IT Professional 13(1) (2011) 33-40. https://ieeexplore.ieee.org/document/5708282 \nOther relevant texts:\nJohn Breslin\, Alexandre Passent\, Stephan Decker\, (2009) The Social Semantic Web \, Springer\, https://link.springer.com/book/10.1007/978-3-642-01172-6 \nOnline course:\nUdemy.com – Data Management Masterclass – The Complete Course https://www.udemy.com/course/data-management-masterclass-the-complete-course/?srsltid=AfmBOor9zwnQkFSLEmbLLPiVMWKdpmWOC0-CpfWxSMg2KJyOBVcJGl5g&couponCode=2021PM20 \nYou can download the presentation by prof. Tiziana Margaria in .pdf.
URL:https://greatleap.eu/event/online-lecture-1-best-practices-for-data-management/
LOCATION:Zoom
CATEGORIES:GREATLEAP,WG4
END:VEVENT
BEGIN:VEVENT
DTSTART;TZID=Europe/Paris:20250321T140000
DTEND;TZID=Europe/Paris:20250321T160000
DTSTAMP:20260422T145241
CREATED:20250318T102101Z
LAST-MODIFIED:20250324T100032Z
UID:6198-1742565600-1742572800@greatleap.eu
SUMMARY:Online lecture 2: Using automatic transcription for processing historical sources
DESCRIPTION:Lecturers: Adrià Molina (Computer Vision Center) & Joana Maria Pujadas-Mora (Open University of Catalonia & Center for Demographic Studies) \nContent of the lecture: The aim of the lecture is to explore the development of a historical digital twin from demographic sources within a big data setup.  \nObjectives of the lecture: \n\nHighlighting the legitimacy of using automatic methods on demographic sources.\nUnderstanding the current challenges in applying AI to historical sources.\nOvercoming challenges through handwriting recognition of population registers to build the BALL database.\n\nRecommended reading: \n\nPujadas-Mora\, J. M.\, Fornés\, A.\, Ramos Terrades\, O.\, Chen\, J.\, Valls-Fígols\, M.\, & Cabré\, A. (2022). The Barcelona Historical Marriage Database and the Baix Llobregat Demographic Database. From algorithms for handwriting recognition to individual-level demographic and socioeconomic data. Historical Life Course Studies\, 2022\, 12 (99).\nMolina\, A.\, Terrades\, O. R.\, & Lladós\, J. (2024\, August). Fetch-A-Set: A Large-Scale OCR-Free Benchmark for Historical Document Retrieval. In International Workshop on Document Analysis Systems (pp. 347-362). Cham: Springer Nature Switzerland.\n\nYou can download the presentation by Adrià Molina in .pdf.
URL:https://greatleap.eu/event/online-lecture-2-using-automatic-transcription-for-processing-historical-sources/
CATEGORIES:GREATLEAP,WG4
END:VEVENT
BEGIN:VEVENT
DTSTART;TZID=Europe/Paris:20250327T180000
DTEND;TZID=Europe/Paris:20250327T200000
DTSTAMP:20260422T145241
CREATED:20250214T124209Z
LAST-MODIFIED:20250214T124243Z
UID:6129-1743098400-1743105600@greatleap.eu
SUMMARY:Mentoring and Networking Event at European Social Science History Conference
DESCRIPTION:Are you looking to expand your academic network and gain valuable mentorship? We invite you to a Mentoring & Networking Event on March 27\, 2025\, from 18:00 to 20:00 at Einstein \nThis event provides a great opportunity to connect with peers and experienced scholars in an informal setting. Whether you’re seeking career advice\, research collaborations\, or simply wish to meet like-minded scholars\, this is an excellent chance to build meaningful connections. \n🔹 Date & Time: March 27\, 2025 | 18:00 – 20:00🔹 Location: Einstein\, Nieuwe Rijn 19\, Leiden\n🔹 What to Expect: An evening of inspiring conversations\, networking opportunities\, and mentorship—plus free drinks and snacks!🔹 Registration: https://forms.gle/WNCS6HAWcT5pDFR99  \nWe look forward to seeing you there.
URL:https://greatleap.eu/event/mentoring-and-networking-event-at-european-social-science-history-conference/
LOCATION:Einstein\, Nieuwe Rijn 19\, Leiden\, Netherlands
CATEGORIES:ESSHC,GREATLEAP,WG4
ORGANIZER;CN="Dr. Tim Riswick":MAILTO:For inquiries, please contact Dr. Tim Riswick, tim.riswick@ru.nl
END:VEVENT
END:VCALENDAR