BEGIN:VCALENDAR
VERSION:2.0
PRODID:-// - ECPv6.15.20//NONSGML v1.0//EN
CALSCALE:GREGORIAN
METHOD:PUBLISH
X-ORIGINAL-URL:https://greatleap.eu
X-WR-CALDESC:Events for 
REFRESH-INTERVAL;VALUE=DURATION:PT1H
X-Robots-Tag:noindex
X-PUBLISHED-TTL:PT1H
BEGIN:VTIMEZONE
TZID:Europe/Paris
BEGIN:DAYLIGHT
TZOFFSETFROM:+0100
TZOFFSETTO:+0200
TZNAME:CEST
DTSTART:20240331T010000
END:DAYLIGHT
BEGIN:STANDARD
TZOFFSETFROM:+0200
TZOFFSETTO:+0100
TZNAME:CET
DTSTART:20241027T010000
END:STANDARD
BEGIN:DAYLIGHT
TZOFFSETFROM:+0100
TZOFFSETTO:+0200
TZNAME:CEST
DTSTART:20250330T010000
END:DAYLIGHT
BEGIN:STANDARD
TZOFFSETFROM:+0200
TZOFFSETTO:+0100
TZNAME:CET
DTSTART:20251026T010000
END:STANDARD
BEGIN:DAYLIGHT
TZOFFSETFROM:+0100
TZOFFSETTO:+0200
TZNAME:CEST
DTSTART:20260329T010000
END:DAYLIGHT
BEGIN:STANDARD
TZOFFSETFROM:+0200
TZOFFSETTO:+0100
TZNAME:CET
DTSTART:20261025T010000
END:STANDARD
END:VTIMEZONE
BEGIN:VEVENT
DTSTART;TZID=Europe/Paris:20250425T140000
DTEND;TZID=Europe/Paris:20250425T160000
DTSTAMP:20260422T115201
CREATED:20250422T115200Z
LAST-MODIFIED:20250714T103841Z
UID:6255-1745589600-1745596800@greatleap.eu
SUMMARY:Lessons learned using a chatbot to assign ICD-10 codes to historical causes of death
DESCRIPTION:Lecturer: Prof. Lars Ailo Aslaksen Bongo\, UiT The Arctic University of Norway \nContent: I will present our lessons learned using the ChatGPT chatbot to assign International Classification of Diseases (ICD) codes to Norwegian historical causes of death. Our hypothesis is that we can use chatbots to interactively code historical data for a specific application. Compared to the huge effort required for coding everything once with low error rates\, this allows less effort and possibly more accurate coding. However\, naive use of chatbots is costly\, so a systematic approach is needed. Finally\, we propose a new specialization: AI curators for AI generated historical knowledge.   \nObjectives: The aim of the lecture is to learn about opportunities and pitfalls in using chatbots for interactive analysis of historical data. \nRecommended reading: It is recommended to test a chatbot before the lecture. \nYou can download the presentation by Prof. Lars Ailo Bongo here. \n\n		\n	\n	\n	\n	\n		Lars Ailo Bongo
URL:https://greatleap.eu/event/lessons-learned-using-a-chatbot-to-assign-icd-10-codes-to-historical-causes-of-death/
LOCATION:Zoom
CATEGORIES:GREATLEAP,WG4
END:VEVENT
END:VCALENDAR