BEGIN:VCALENDAR
VERSION:2.0
PRODID:-// - ECPv6.15.20//NONSGML v1.0//EN
CALSCALE:GREGORIAN
METHOD:PUBLISH
X-ORIGINAL-URL:https://greatleap.eu
X-WR-CALDESC:Events for 
REFRESH-INTERVAL;VALUE=DURATION:PT1H
X-Robots-Tag:noindex
X-PUBLISHED-TTL:PT1H
BEGIN:VTIMEZONE
TZID:Europe/Paris
BEGIN:DAYLIGHT
TZOFFSETFROM:+0100
TZOFFSETTO:+0200
TZNAME:CEST
DTSTART:20240331T010000
END:DAYLIGHT
BEGIN:STANDARD
TZOFFSETFROM:+0200
TZOFFSETTO:+0100
TZNAME:CET
DTSTART:20241027T010000
END:STANDARD
BEGIN:DAYLIGHT
TZOFFSETFROM:+0100
TZOFFSETTO:+0200
TZNAME:CEST
DTSTART:20250330T010000
END:DAYLIGHT
BEGIN:STANDARD
TZOFFSETFROM:+0200
TZOFFSETTO:+0100
TZNAME:CET
DTSTART:20251026T010000
END:STANDARD
BEGIN:DAYLIGHT
TZOFFSETFROM:+0100
TZOFFSETTO:+0200
TZNAME:CEST
DTSTART:20260329T010000
END:DAYLIGHT
BEGIN:STANDARD
TZOFFSETFROM:+0200
TZOFFSETTO:+0100
TZNAME:CET
DTSTART:20261025T010000
END:STANDARD
END:VTIMEZONE
BEGIN:VEVENT
DTSTART;TZID=Europe/Paris:20250516T140000
DTEND;TZID=Europe/Paris:20250516T160000
DTSTAMP:20260422T115651
CREATED:20250714T102247Z
LAST-MODIFIED:20250714T102639Z
UID:6359-1747404000-1747411200@greatleap.eu
SUMMARY:Historical International Classification for Diseases
DESCRIPTION:Lecturers: prof. Alice Reid\, University of Cambridge\, dr. Mayra Murkens\, University of Groningen \nContent: The recently launched ICD10h coding system is designed to support historical demographers and historians in coding historical causes of death. Widespread adoption of this system across diverse countries and linguistic contexts will significantly enhance the comparability of research on historical cause-specific mortality patterns\, while preserving the integrity of the historical context. With the coding manual and the English historical causes of death strings file\, researchers can begin coding causes of death. However\, this process also involves tidying\, parsing\, and determining primary causes of death. \nYou can find the presentation in .pdf here.
URL:https://greatleap.eu/event/historical-international-classification-for-diseases/
LOCATION:Zoom
CATEGORIES:GREATLEAP,WG4
END:VEVENT
END:VCALENDAR